BEGIN:VCALENDAR
VERSION:2.0
PRODID:-//St. Marcel Initiative - ECPv6.6.1//NONSGML v1.0//EN
CALSCALE:GREGORIAN
METHOD:PUBLISH
X-ORIGINAL-URL:https://stmarcelinitiative.org
X-WR-CALDESC:Events for St. Marcel Initiative
REFRESH-INTERVAL;VALUE=DURATION:PT1H
X-Robots-Tag:noindex
X-PUBLISHED-TTL:PT1H
BEGIN:VTIMEZONE
TZID:America/Toronto
BEGIN:DAYLIGHT
TZOFFSETFROM:-0500
TZOFFSETTO:-0400
TZNAME:EDT
DTSTART:20150308T070000
END:DAYLIGHT
BEGIN:STANDARD
TZOFFSETFROM:-0400
TZOFFSETTO:-0500
TZNAME:EST
DTSTART:20151101T060000
END:STANDARD
END:VTIMEZONE
BEGIN:VEVENT
DTSTART;VALUE=DATE:20150501
DTEND;VALUE=DATE:20150504
DTSTAMP:20260424T035654
CREATED:20141125T210814Z
LAST-MODIFIED:20150319T203026Z
UID:10028-1430438400-1430697599@stmarcelinitiative.org
SUMMARY:Dr. White on T.S. Eliot
DESCRIPTION:Dr. David Allen White will again be lecturing\, Deo volente\, in Broadstairs\, England. This time the subject is T.S. Eliot\, who wrote a portion of his famous Wasteland in Margate\, not far from Broadstairs. Stay tuned for further information.
URL:https://stmarcelinitiative.org/event/dr-white-on-t-s-eliot/
LOCATION:Queen of Martyrs House\, Broadstairs\, Kent\, United Kingdom
ORGANIZER;CN="Write or call for further information":MAILTO:events@stmarcelinitiative.com
END:VEVENT
END:VCALENDAR