BEGIN:VCALENDAR
VERSION:2.0
PRODID:-//St. Marcel Initiative - ECPv6.6.1//NONSGML v1.0//EN
CALSCALE:GREGORIAN
METHOD:PUBLISH
X-ORIGINAL-URL:https://stmarcelinitiative.org
X-WR-CALDESC:Events for St. Marcel Initiative
REFRESH-INTERVAL;VALUE=DURATION:PT1H
X-Robots-Tag:noindex
X-PUBLISHED-TTL:PT1H
BEGIN:VTIMEZONE
TZID:UTC
BEGIN:STANDARD
TZOFFSETFROM:+0000
TZOFFSETTO:+0000
TZNAME:UTC
DTSTART:20200101T000000
END:STANDARD
END:VTIMEZONE
BEGIN:VEVENT
DTSTART;TZID=UTC:20200302T080000
DTEND;TZID=UTC:20200302T170000
DTSTAMP:20260425T065150
CREATED:20161220T163848Z
LAST-MODIFIED:20161220T163848Z
UID:17491-1583136000-1583168400@stmarcelinitiative.org
SUMMARY:Prophetic Conference
DESCRIPTION:I awakened; for Yahweh sustains me. I will not be afraid of tens of thousands of people who have set themselves against me on every side. Arise\, Yahweh! Save me\, my God! For you have struck all of my enemies on the cheek bone. You have broken the teeth of the wicked. Salvation belongs to Yahweh. Your blessing be on your people.
URL:https://stmarcelinitiative.org/event/prophetic-conference/
CATEGORIES:Collective Praying
ATTACH;FMTTYPE=image/jpeg:https://stmarcelinitiative.org/wp-content/uploads/2021/06/divinity-03-400x400-1.jpg
END:VEVENT
BEGIN:VEVENT
DTSTART;TZID=UTC:20200305T080000
DTEND;TZID=UTC:20200305T170000
DTSTAMP:20260425T065150
CREATED:20161220T163347Z
LAST-MODIFIED:20161220T163347Z
UID:17492-1583395200-1583427600@stmarcelinitiative.org
SUMMARY:Readings of the New Testament
DESCRIPTION:Why do you boast of mischief\, mighty man? God’s loving kindness endures continually. Your tongue plots destruction\, like a sharp razor\, working deceitfully. You love evil more than good\, lying rather than speaking the truth. You love all devouring words\, you deceitful tongue. God will likewise destroy you forever. He will take you up\, and pluck you out of your tent\, and root you out of the land of the living. The righteous also will see it\, and fear\, and laugh at him\, saying\, «Behold\, this is the man who didn’t make God his strength\, but trusted in the abundance of his riches\, and strengthened himself in his wickedness.» But as for me\, I am like a green olive tree in God’s house. I trust in God’s loving kindness forever and ever. I will give you thanks forever\, because you have done it. I will hope in your name\, for it is good\, in the presence of your saints.
URL:https://stmarcelinitiative.org/event/readings-of-the-new-testament/
CATEGORIES:Collective Praying
ATTACH;FMTTYPE=image/jpeg:https://stmarcelinitiative.org/wp-content/uploads/2021/06/divinity-06-400x400-1.jpg
END:VEVENT
END:VCALENDAR